BEGIN:VCALENDAR
VERSION:2.0
PRODID:-//RHBC Church - ECPv6.13.2.1//NONSGML v1.0//EN
CALSCALE:GREGORIAN
METHOD:PUBLISH
X-WR-CALNAME:RHBC Church
X-ORIGINAL-URL:https://www.rhbcwa.org
X-WR-CALDESC:Events for RHBC Church
REFRESH-INTERVAL;VALUE=DURATION:PT1H
X-Robots-Tag:noindex
X-PUBLISHED-TTL:PT1H
BEGIN:VTIMEZONE
TZID:America/Denver
BEGIN:DAYLIGHT
TZOFFSETFROM:-0700
TZOFFSETTO:-0600
TZNAME:MDT
DTSTART:20180311T090000
END:DAYLIGHT
BEGIN:STANDARD
TZOFFSETFROM:-0600
TZOFFSETTO:-0700
TZNAME:MST
DTSTART:20181104T080000
END:STANDARD
END:VTIMEZONE
BEGIN:VTIMEZONE
TZID:UTC
BEGIN:STANDARD
TZOFFSETFROM:+0000
TZOFFSETTO:+0000
TZNAME:UTC
DTSTART:20180101T000000
END:STANDARD
END:VTIMEZONE
BEGIN:VEVENT
DTSTART;TZID=America/Denver:20181224T170000
DTEND;TZID=America/Denver:20181224T193000
DTSTAMP:20260423T124020
CREATED:20170914T190945Z
LAST-MODIFIED:20181221T185601Z
UID:283-1545670800-1545679800@www.rhbcwa.org
SUMMARY:Church Christmas Celebration
DESCRIPTION:
URL:https://www.rhbcwa.org/event/church-christmas-celebration/
LOCATION:RHBC Church\, 2605 S. 144th St.\, Seatac\, WA\, 98168\, United States
ATTACH;FMTTYPE=image/jpeg:https://www.rhbcwa.org/wp-content/uploads/2017/09/blue-background-of-christmas-ball-made-of-snowflakes_1017-5339.jpg
ORGANIZER;CN="rbhbc":MAILTO:rivertonchurch@rhbcwa.org
END:VEVENT
BEGIN:VEVENT
DTSTART;TZID=UTC:20180827T080000
DTEND;TZID=UTC:20180827T080000
DTSTAMP:20260423T124020
CREATED:20170827T002759Z
LAST-MODIFIED:20181020T202623Z
UID:259-1535356800-1535356800@www.rhbcwa.org
SUMMARY:RBHC 56th Anniversary Celebration
DESCRIPTION:  \nRHBC 57th Anniversary Celebration
URL:https://www.rhbcwa.org/event/rbhc-56th-anniversary-celebration/
LOCATION:RHBC Church\, 2605 S. 144th St.\, Seatac\, WA\, 98168\, United States
ATTACH;FMTTYPE=image/jpeg:https://www.rhbcwa.org/wp-content/uploads/2017/04/Success.jpg
ORGANIZER;CN="rbhbc":MAILTO:rivertonchurch@rhbcwa.org
END:VEVENT
END:VCALENDAR